BEGIN:VCALENDAR
VERSION:2.0
PRODID:-//CountryHome - ECPv6.15.20//NONSGML v1.0//EN
CALSCALE:GREGORIAN
METHOD:PUBLISH
X-ORIGINAL-URL:https://countryhome.de
X-WR-CALDESC:Veranstaltungen für CountryHome
REFRESH-INTERVAL;VALUE=DURATION:PT1H
X-Robots-Tag:noindex
X-PUBLISHED-TTL:PT1H
BEGIN:VTIMEZONE
TZID:Europe/Berlin
BEGIN:DAYLIGHT
TZOFFSETFROM:+0100
TZOFFSETTO:+0200
TZNAME:CEST
DTSTART:20240331T010000
END:DAYLIGHT
BEGIN:STANDARD
TZOFFSETFROM:+0200
TZOFFSETTO:+0100
TZNAME:CET
DTSTART:20241027T010000
END:STANDARD
BEGIN:DAYLIGHT
TZOFFSETFROM:+0100
TZOFFSETTO:+0200
TZNAME:CEST
DTSTART:20250330T010000
END:DAYLIGHT
BEGIN:STANDARD
TZOFFSETFROM:+0200
TZOFFSETTO:+0100
TZNAME:CET
DTSTART:20251026T010000
END:STANDARD
BEGIN:DAYLIGHT
TZOFFSETFROM:+0100
TZOFFSETTO:+0200
TZNAME:CEST
DTSTART:20260329T010000
END:DAYLIGHT
BEGIN:STANDARD
TZOFFSETFROM:+0200
TZOFFSETTO:+0100
TZNAME:CET
DTSTART:20261025T010000
END:STANDARD
END:VTIMEZONE
BEGIN:VEVENT
DTSTART;TZID=Europe/Berlin:20250218T180000
DTEND;TZID=Europe/Berlin:20250218T230000
DTSTAMP:20260420T181609
CREATED:20250216T193846Z
LAST-MODIFIED:20250216T193846Z
UID:24664-1739901600-1739919600@countryhome.de
SUMMARY:Spanferkel-Gaumenschmaus @Summerby Saloon
DESCRIPTION:Spanferkel im ganzen gegrillt\, Kartoffelgratin & Sauerkraut für 19\,50 € pro Portion\, anschliessend Tanz \nReservierungen unter 0160-8182520\, möglichst per WhatsApp \nEinlass 18 h\, Tanz ab 19 h
URL:https://countryhome.de/event/spanferkel-gaumenschmaus-summerby-saloon/
LOCATION:Summerby Saloon\, Am Torfmoor 2\, Hartenholm\, Schleswig-Holstein\, 24628\, Deutschland
END:VEVENT
END:VCALENDAR